Workbook

Sheet TUYENSINH
C1: 2017 | H1: 2018 | I1: 2019 | J1: 2020
A2: Ô tô | C2: 948 | D2: 1000 | E2: =D2*10%+D2 -> 1100 | F2: =E2*10%+E2 -> 1210 | H2: =C2+D2 -> 1948 | I2: =H2+E2 -> 3048 | J2: =(I2+F2)-C2 -> 3310
C3: 229 | D3: 250 | E3: =D3*10%+D3 -> 275 | F3: =E3*10%+E3 -> 302.5 | H3: =D3+C3 -> 479 | I3: =(H3+D3)-C3 -> 500 | J3: =(I3+F3)-D3 -> 552.5
A5: CK chế tạo | C5: 153 | D5: 150 | E5: =D5*10%+D5 -> 165 | F5: =E5*10%+E5 -> 181.5 | H5: =D5+C5 -> 303 | I5: =(H5+D5)-C5 -> 300 | J5: =(I5+F5)-D5 -> 331.5
A9: Điện CN | C9: 273 | D9: 300 | E9: =D9*10%+D9 -> 330 | F9: =E9*10%+E9 -> 363 | H9: =C9+D9 -> 573 | I9: =H9+E9 -> 903 | J9: =(I9+F9)-C9 -> 993
C10: 118 | D10: 150 | E10: =D10*10%+D10 -> 165 | F10: =E10*10%+E10 -> 181.5 | H10: =D10+C10 -> 268 | I10: =(H10+D10)-C10 -> 300 | J10: =(I10+F10)-D10 -> 331.5
A13: Cơ điện tử | C13: 72 | D13: 100 | E13: =D13*10%+D13 -> 110 | F13: =E13*10%+E13 -> 121 | H13: =C13+D13 -> 172 | I13: =H13+E13 -> 282 | J13: =(I13+F13)-C13 -> 331
D14: 50 | E14: =D14*10%+D14 -> 55 | F14: =E14*10%+E14 -> 60.5 | H14: =D14+C14 -> 50 | I14: =(H14+D14)-C14 -> 100 | J14: =(I14+F14)-D14 -> 110.5
A18: CN KT Cơ khí | C18: 575 | D18: 600 | E18: =D18*10%+D18 -> 660 | F18: =E18*10%+E18 -> 726 | H18: =C18+D18 -> 1175 | I18: =H18+E18 -> 1835 | J18: =(I18+F18)-C18 -> 1986
C19: 103 | D19: 150 | E19: =D19*10%+D19 -> 165 | F19: =E19*10%+E19 -> 181.5 | H19: =D19+C19 -> 253 | I19: =(H19+D19)-C19 -> 300 | J19: =(I19+F19)-D19 -> 331.5
A21: CNKTĐDT | C21: 374 | D21: 400 | E21: =D21*10%+D21 -> 440 | F21: =E21*10%+E21 -> 484 | H21: =C21+D21 -> 774 | I21: =H21+E21 -> 1214 | J21: =(I21+F21)-C21 -> 1324
C22: 65 | D22: 100 | E22: =D22*10%+D22 -> 110 | F22: =E22*10%+E22 -> 121 | H22: =D22+C22 -> 165 | I22: =(H22+D22)-C22 -> 200 | J22: =(I22+F22)-D22 -> 221
A24: QTMMT | C24: 82 | D24: 100 | E24: =D24*10%+D24 -> 110 | F24: =E24*10%+E24 -> 121 | H24: =C24+D24 -> 182 | I24: =H24+E24 -> 292 | J24: =(I24+F24)-C24 -> 331
C25: 133 | D25: 150 | E25: =D25*10%+D25 -> 165 | F25: =E25*10%+E25 -> 181.5 | H25: =D25+C25 -> 283 | I25: =(H25+D25)-C25 -> 300 | J25: =(I25+F25)-D25 -> 331.5
D26: =SUM(D2:D25) -> 3500 | E26: =SUM(E2:E25) -> 3850 | F26: =SUM(F2:F25) -> 4235 | H26: =SUM(H2:H25) -> 6625 | I26: =SUM(I2:I25) -> 9574 | J26: =SUM(J2:J25) -> 10485

Sheet CHUONGTRINH
A1: STT | B1: NỘI DUNG THỰC HIỆN | C1: Số giờ thực hiện | D1: Đơn giá/giờ | E1: Thành tiền
A2: I | B2: Xây dựng chương trình khung
A3: 1 | B3: Biên soạn | C3: 640 | D3: 30000 | E3: =D3*C3 -> 19200000
A4: 2 | B4: Sửa chữa và biên tập | C4: 192 | D4: 55000 | E4: =D4*C4 -> 10560000
A5: 3 | B5: Đọc phản biện và nhận xét | C5: 448 | D5: 40000 | E5: =D5*C5 -> 17920000
A6: II | B6: Xây dựng chương trình môn học
A7: 1 | B7: Biên soạn | C7: 640 | D7: 90000 | E7: =C7*D7 -> 57600000
A8: 2 | B8: Sửa chữa và biên tập | C8: 192 | D8: 55000 | E8: =C8*D8 -> 10560000
A9: 3 | B9: Đọc phản biện và nhận xét | C9: 448 | D9: 40000 | E9: =C9*D9 -> 17920000
A10: III | B10: Biên soạn giáo trình
A11: 1 | B11: Biên soạn | C11: 100 trang | D11: 110000 | E11: 4500000
A12: 2 | B12: Sửa chữa và biên tập | C12: 100 trang | D12: 25000 | E12: 2500000
A13: 3 | B13: Đọc phản biện và nhận xét | C13: 100 trang | D13: 20000 | E13: 2000000
A14: TỔNG CỘNG | E14: =SUM(E2:E13) -> 142760000
D16: =E14*10% -> 14276000
D17: 6
D18: =D16*D17 -> 85656000
A19: Trung cấp
A21: STT | B21: NỘI DUNG THỰC HIỆN | C21: Số giờ thực hiện | D21: Đơn giá/giờ | E21: Thành tiền
A22: I | B22: Xây dựng chương trình khung
A23: 1 | B23: Biên soạn | C23: 640 | D23: 25000 | E23: =D23*C23 -> 16000000
A24: 2 | B24: Sửa chữa và biên tập | C24: 192 | D24: 50000 | E24: =D24*C24 -> 9600000
A25: 3 | B25: Đọc phản biện và nhận xét | C25: 448 | D25: 35000 | E25: =D25*C25 -> 15680000
A26: II | B26: Xây dựng chương trình môn học
A27: 1 | B27: Biên soạn | C27: 640 | D27: 105000 | E27: =C27*D27 -> 67200000
A28: 2 | B28: Sửa chữa và biên tập | C28: 192 | D28: 25000 | E28: =C28*D28 -> 4800000
A29: 3 | B29: Đọc phản biện và nhận xét | C29: 448 | D29: 15000 | E29: =C29*D29 -> 6720000
A30: III | B30: Biên soạn giáo trình
A31: 1 | B31: Biên soạn | C31: 100 trang | D31: 45000 | E31: 4500000
A32: 2 | B32: Sửa chữa và biên tập | C32: 100 trang | D32: 25000 | E32: 2500000
A33: 3 | B33: Đọc phản biện và nhận xét | C33: 100 trang | D33: 20000 | E33: 2000000
A34: TỔNG CỘNG | E34: =SUM(E22:E33) -> 129000000
D36: =E34*10% -> 12900000
D37: 7
D38: =D36*D37 -> 90300000

Sheet THIETBI
A1: Nghề Công nghệ Ô tô
A2: TT | B2: Tên thiết bị đầu tư | C2: ĐVT | D2: Số lượng | E2: Đơn giá | F2: Thành tiền (VNĐ)
A3: I | B3: Năm 2018 | F3: =SUM(F4:F7) -> 838450590
A4: 1 | B4: Thiết bị chẩn đoán kỹ thuật ô tô hiện đại | C4: cái | D4: 1 | E4: 230560000 | F4: 230560000
A5: 2 | B5: Thiết bị kiểm tra góc đặt bánh xe cho xe du lịch. | C5: Cái | D5: 1 | E5: 413820177 | F5: 413820177
A6: 3 | B6: Máy nạp ac qui khởi động đề | D6: 1 | E6: 26595413 | F6: 26595413
A7: 4 | B7: Bộ dụng cụ sửa chữa điện | D7: 1 | E7: 167475000 | F7: 167475000
A8: II | B8: Năm 2019 | F8: =SUM(F9:F18) -> 9568000000
A9: 1 | B9: Mô hình ô tô tổng thành Commonrail Ford Ranger kết nối với máy tính đào tạo | C9: Cái | D9: 1 | E9: 1250000000 | F9: =E9*D9 -> 1250000000
A10: 2 | B10: Mô hình hệ thống lái tích cực AFS | C10: Cái | D10: 1 | E10: 215000000 | F10: =E10*D10 -> 215000000
A11: 3 | B11: Mô hình ô tô tổng thành Nissan Sunny kết nối với máy tính đào tạo | C11: Cái | D11: 1 | E11: 950000000 | F11: =E11*D11 -> 950000000
A12: 4 | B12: Mô hình hệ thống lái 4WS | C12: Cái | D12: 1 | E12: 225000000 | F12: =E12*D12 -> 225000000
A13: 5 | B13: Mô hình ô tô tổng thành Toyota Innova kết nối với máy tính đào tạo | C13: Cái | D13: 1 | E13: 1400000000 | F13: =E13*D13 -> 1400000000
A14: 6 | B14: Mô hình hệ thống visai điều khiển điện | C14: Cái | D14: 1 | E14: 158000000 | F14: =E14*D14 -> 158000000
A15: 7 | B15: Mô hình ô tô tổng thành Huyndai i10 kết nối với máy tính đào tạo | C15: Cái | D15: 1 | E15: 870000000 | F15: =E15*D15 -> 870000000
A16: 8 | B16: Mô hình điện tổng thành ô tô sử dụng mạng CAN | C16: Cái | D16: 4 | E16: 350000000 | F16: =E16*D16 -> 1400000000
A17: 9 | B17: Mô hình tổng thành ô tô Toyota Spirus kết nối với máy tính đào tạo | C17: Cái | D17: 1 | E17: 1800000000 | F17: =E17*D17 -> 1800000000
A18: 10 | B18: Mô hình tổng thành ô tô điện | C18: Cái | D18: 1 | E18: 1300000000 | F18: =E18*D18 -> 1300000000
A19: III | B19: Năm 2020 | F19: =SUM(F20:F29) -> 9116000000
A20: 1 | B20: Máy nạp ga cho hệ thống điều hoà ô tô. | C20: cái | D20: 4 | E20: 250000000 | F20: =E20*D20 -> 1000000000
A21: 2 | B21: Mô hình hệ thống điều hòa không khí tự động | C21: cái | D21: 4 | E21: 192000000 | F21: =E21*D21 -> 768000000
A22: 3 | B22: Mô hình hệ thống điện thân xe sử dụng mạng CAN | C22: cái | D22: 4 | E22: 210000000 | F22: =E22*D22 -> 840000000
A23: 4 | B23: Mô hình tổng thành hệ thống lái ARS | C23: cái | D23: 2 | E23: 176000000 | F23: =E23*D23 -> 352000000
A24: 5 | B24: Thiết bị kiểm tra góc đặt bánh xe | C24: cái | D24: 2 | E24: 1168000000 | F24: =E24*D24 -> 2336000000
A25: 6 | B25: Thiết bị kiểm tra máy phát, khởi động | C25: cái | D25: 1 | E25: 310000000 | F25: =E25*D25 -> 310000000
A26: 7 | B26: Mô hình động cơ sử dụng ly hợp kép | C26: cái | D26: 4 | E26: 182500000 | F26: =E26*D26 -> 730000000
A27: 8 | B27: Mô hình hệ thống treo điện | C27: cái | D27: 4 | E27: 245000000 | F27: =E27*D27 -> 980000000
A28: 9 | B28: Mô hình hệ thống cân bằng lực kéo TRC | C28: cái | D28: 4 | E28: 125000000 | F28: =E28*D28 -> 500000000
A29: 10 | B29: Mô hình tổng thành ô tô điện | C29: Cái | D29: 1 | E29: 1300000000 | F29: =E29*D29 -> 1300000000
B30: TỔNG CỘNG I+II+III | F30: =F19+F8+F3 -> 19522450590
A35: Nghề Công nghệ kỹ thuật Cơ khí
A37: TT | B37: Tên thiết bị đầu tư | C37: ĐVT | D37: Số lượng | E37: Đơn giá | F37: Thành tiền (VNĐ) | G37: Năm đầu tư
A38: 1 | B38: Máy hàn Tig AC/DC | C38: cái | D38: 3 | E38: 169042427 | F38: =E38*D38 -> 507127281 | G38: 2018
A39: 2 | B39: Máy hàn Mig-Mag | C39: Cái | D39: 3 | E39: 62802604 | F39: =E39*D39 -> 188407812 | G39: 2018
B40: Cộng | F40: =SUM(F38:F39) -> 695535093
A44: Nghề Cơ khí chế tạo
A46: TT | B46: Tên thiết bị đầu tư | C46: ĐVT | D46: Số lượng | E46: Đơn giá | F46: Thành tiền (VNĐ) | G46: Năm đầu tư
A47: 1 | B47: CTX gamma 2000 TC model 2017 | C47: Máy | D47: 1 | E47: 30000000000 | F47: =E47 -> 30000000000 | G47: 2019
A48: 2 | B48: AgieCharmilles CUT P 800 | C48: Máy | D48: 1 | E48: 15000000000 | F48: =E48 -> 15000000000 | G48: 2020
B49: CỘNG | F49: =F47+F48 -> 45000000000
A52: Nghề Công nghệ Kỹ thuật Điện-Điện tử
A53: TT | B53: Tên thiết bị đầu tư | C53: ĐVT | D53: Số lượng | E53: Đơn giá | F53: Thành tiền (VNĐ) | G53: Năm đầu tư
A54: 1 | B54: Bộ Thực hành PLC S7-1200 | C54: Cái | D54: 8 | E54: 87500000 | F54: =E54*D54 -> 700000000 | G54: 2018
A55: 2 | B55: Module Profinet mở rộng | C55: Cái | D55: 2 | E55: 13110000 | F55: =E55*D55 -> 26220000 | G55: 2018
B56: CỘNG | F56: =SUM(F54:F55) -> 726220000
A59: Nghề Điện công nghiệp
A60: TT | B60: Tên thiết bị đầu tư | C60: ĐVT | D60: Số lượng | E60: Đơn giá | F60: Thành tiền (VNĐ) | G60: Năm đầu tư
A61: 1 | B61: Phòng thực hành khí nén thủy lực | C61: phòng | D61: 1 | E61: =F61 -> 10946430000 | F61: 10946430000 | G61: 2019
B62: Cộng | F62: =SUM(F61:F61) -> 10946430000
A65: Nghề Cơ điện tử
A66: TT | B66: Tên thiết bị đầu tư | C66: ĐVT | D66: Số lượng | E66: Đơn giá | F66: Thành tiền (VNĐ) | G66: Năm đầu tư
A67: 1 | B67: Phòng thực hành FMS-500 (hệ thống 6 khu vực) | C67: phòng | D67: 1 | E67: 10557240000 | F67: =E67 -> 10557240000 | G67: 2019
B68: Cộng 2018 | F68: =SUM(F67:F67) -> 10557240000
A72: Nghề Quản trị mạng máy tính
A74: TT | B74: Tên thiết bị đầu tư | C74: ĐVT | D74: Số lượng | E74: Đơn giá | F74: Thành tiền (VNĐ) | G74: Năm đầu tư
A75: 1 | B75: Máy vi tính bàn, DELL, Model: Vostro 3668MT, core i7-7700 (3.6Ghz/8MB) | C75: cái | D75: 24 | E75: 29000000 | F75: =E75*D75 -> 696000000 | G75: 2018
A76: 2 | B76: Switch CISCO Catalyst 2960 | C76: Cái | D76: 1 | E76: 10000000 | F76: =E76*D76 -> 10000000 | G76: 2018
B77: Cộng 2018 | F77: =SUM(F75:F76) -> 706000000
A78: 3 | B78: Máy vi tính bàn, DELL, Model: Vostro 3668MT, core i7-7700 (3.6Ghz/8MB) | C78: Bộ | D78: 315 | E78: 29000000 | F78: =E78*D78 -> 9135000000 | G78: 2019
A79: 4 | B79: Máy lạnh | C79: Bộ | D79: 21 | E79: 20000000 | F79: =E79*D79 -> 420000000 | G79: 2019
A80: 5 | B80: Máy chiếu (Projector) Màn chiếu ≥ (1800 x 1800) mm | C80: Bộ | D80: 7 | E80: 17000000 | F80: =E80*D80 -> 119000000 | G80: 2019
A81: 6 | B81: Switch CISCO Catalyst 2960 | C81: Cái | D81: 21 | E81: 10000000 | F81: =E81*D81 -> 210000000 | G81: 2019
B82: Cộng 2019 | F82: =SUM(F78:F81) -> 9884000000
A83: 7 | B83: Máy vi tính bàn, DELL, Model: Vostro 3668MT,core i7-7700 (3.6Ghz/8MB) | C83: Bộ | D83: 225 | E83: 29000000 | F83: =E83*D83 -> 6525000000 | G83: 2020
A84: 8 | B84: Máy lạnh | C84: Cái | D84: 15 | E84: 20000000 | F84: =E84*D84 -> 300000000 | G84: 2020
A85: 9 | B85: Máy chiếu (Projector) Màn chiếu ≥ (1800 x 1800) mm | C85: Cái | D85: 5 | E85: 17000000 | F85: =E85*D85 -> 85000000 | G85: 2020
A86: 10 | B86: Switch CISCO Catalyst 2960 | C86: Cái | D86: 15 | E86: 10000000 | F86: =E86*D86 -> 150000000 | G86: 2020
A87: 11 | B87: Máy chủ, DELL Model: Server DELL R730 Rack 2U;Vi xử lý: 2 CPU Xeon E5-2620 | C87: Bộ | D87: 4 | E87: 400000000 | F87: =E87*D87 -> 1600000000 | G87: 2020
A88: 12 | B88: Router Cisco Security ASA5525-K9 | C88: Cái | D88: 2 | E88: 130000000 | F88: =E88*D88 -> 260000000 | G88: 2020
A89: 13 | B89: Switch CISCO Lớp 3, WS-C3850-24T-S | C89: Cái | D89: 2 | E89: 120000000 | F89: =E89*D89 -> 240000000 | G89: 2020
A90: 14 | B90: Switch CISCO Catalyst 3750WS-C3750X-24T-S | C90: Cái | D90: 4 | E90: 110000000 | F90: =E90*D90 -> 440000000 | G90: 2020
A91: 15 | B91: Tủ Rack Cabinet 19” 36U series 1000 ECP-36U1000A | C91: Cái | D91: 1 | E91: 13000000 | F91: =E91*D91 -> 13000000 | G91: 2020
B92: Năm 2020 | F92: =SUM(F83:F91) -> 9613000000
B93: Cộng 3 năm (2018+2019+2020) | F93: =F92+F82+F77 -> 20203000000
A97: TỔNG HỢP ĐẦU TƯ THIẾT BỊ
G98: ĐVT: đồng
A99: TT | B99: TÊN NGHỀ ĐẦU TƯ | C99: Năm 2018 | E99: Năm 2019 | F99: Năm 2020 | G99: TỔNG CỘNG
A100: 1 | B100: Công nghệ Ô tô | C100: =F3 -> 838450590 | E100: =F8 -> 9568000000 | F100: =F19 -> 9116000000 | G100: =SUM(C100:F100) -> 19522450590
A101: 2 | B101: Cơ khí chế tạo | E101: =F47 -> 30000000000 | F101: =F48 -> 15000000000 | G101: =SUM(C101:F101) -> 45000000000
A102: 3 | B102: Điện công nghiệp | E102: =F62 -> 10946430000 | G102: =SUM(C102:F102) -> 10946430000
A103: 4 | B103: Cơ điện tử | E103: =F68 -> 10557240000 | G103: =SUM(C103:F103) -> 10557240000
A104: 5 | B104: Công nghệ Kỹ thuật Điện, Điện tử | C104: 721924000 | G104: =SUM(C104:F104) -> 721924000 | I104: =G104+G105 -> 5761924000
C105: 5040000000 | G105: =C105 -> 5040000000
A106: 6 | B106: Công nghệ Kỹ thuật Cơ khí | C106: =F40 -> 695535093 | G106: =SUM(C106:F106) -> 695535093
A107: 7 | B107: Quản trị mạng máy tính | C107: 719262000 | E107: =F82 -> 9884000000 | F107: =F92 -> 9613000000 | G107: =SUM(C107:F107) -> 20216262000
B108: CỘNG | C108: =SUM(C100:C107) -> 8015171683 | E108: =SUM(E100:E107) -> 70955670000 | F108: =SUM(F100:F107) -> 33729000000 | G108: =SUM(G100:G107) -> 112699841683
G112: ĐVT: ngàn đồng
A113: TT | B113: TÊN NGHỀ ĐẦU TƯ | C113: Năm 2018 | E113: Năm 2019 | F113: Năm 2020 | G113: TỔNG CỘNG
A114: 1 | B114: Công nghệ Ô tô | C114: 838451 | E114: 9568000 | F114: 9116000 | G114: =SUM(C114:F114) -> 19522451
A115: 2 | B115: Cơ khí chế tạo | E115: 30000000 | F115: 15000000 | G115: =SUM(C115:F115) -> 45000000
A116: 3 | B116: Điện công nghiệp | E116: 10946430 | G116: =SUM(C116:F116) -> 10946430
A117: 4 | B117: Cơ điện tử | E117: 10557240 | G117: =SUM(C117:F117) -> 10557240
A118: 5 | B118: Công nghệ Kỹ thuật Điện, Điện tử | C118: 721924 | G118: =SUM(C118:F118) -> 721924
C119: 5040000 | G119: =SUM(C119:F119) -> 5040000
A120: 6 | B120: Công nghệ Kỹ thuật Cơ khí | C120: 695535 | G120: =SUM(C120:F120) -> 695535
A121: 7 | B121: Quản trị mạng máy tính | C121: 719262 | E121: 9884000 | F121: 9613000 | G121: =SUM(C121:F121) -> 20216262
B122: CỘNG | C122: =SUM(C114:C121) -> 8015172 | E122: =SUM(E114:E121) -> 70955670 | F122: =SUM(F114:F121) -> 33729000 | G122: =SUM(G114:G121) -> 112699842
C123: =C114+C118+C120+C121 -> 2975172
B124: 0.1 | C124: =C122*10% -> 801517.2 | E124: =E122*B124 -> 7095567 | F124: =F122*B124 -> 3372900 | G124: =G122*B124 -> 11269984
B125: Trước thuế | C125: =C122-C124 -> 7213654.8 | E125: =E122-E124 -> 63860103 | F125: =F122-F124 -> 30356100 | G125: =G122-G124 -> 1.0142986e+08
...

Sheet CAITAOLOPHOC
A1: Sửa chữa, xây mới phòng thực hành
A3: Cải tạo, sửa chữa | B3: 7000000
A4: Xây dựng Trung tâm Đào tạo kỹ thuật viên về thang máy và thang cuốn | B4: 6000000
B7: 2800000000 | C7: 2800000 | D7: 2800000000
B8: 2193780000 | C8: 2193780 | D8: 2193780000
B9: 1338748000 | C9: 1338748 | D9: 1338748000
B10: 1753000000 | C10: 1753000 | D10: 1753000000
B11: 1714000000 | C11: 1714000 | D11: 1714000000
B12: 6000000000
B13: =SUM(B7:B12) -> 15799528000 | C13: =SUM(C7:C12) -> 9799528 | D13: =SUM(D7:D12) -> 9799528000
A14: Truoc thue (10%) | C14: =C13/1.1 -> 8908661.8 | D14: =D13/1.1 -> 8.9086618e+09

Sheet CACCHIPHI
A2: 1 | B2: Chi phí quản lý DA | D2: (Trừ thuế 10% Tbi+XLắp) | E2: =GIATRIDAUTU!L16*CONGTHUCTINH!B16/100 -> 2080848.4 | F2: 79
A3: 2 | B3: Chi phí lập DA báo cáo khả thi | C3: =(I+II+III)*Hệ số nội suy | D3: (Trừ thuế 10% Tbi+XLắp) | E3: =GIATRIDAUTU!L16*CONGTHUCTINH!C16/100 -> 489530.72 | F3: 79
A4: 3 | B4: Chi phí thẩm định giá | C4: Chỉ tính thẩm định trên thiết bị | E4: =GIATRIDAUTU!L6*2/100 -> 1957451.7 | F4: 0.02
A5: 4 | B5: Chi phí lập hồ sơ mời thầu và chi phí lựa chọn nhà thầu TB | E5: =GIATRIDAUTU!L6*CONGTHUCTINH!E16/100 -> 174487.24 | F5: 79
A6: 5 | B6: Chi phí lập hồ sơ mời thầu và chi phí lựa chọn nhà thầu XD | E6: =GIATRIDAUTU!L8*0.432/100 -> 38487.273 | F6: ND 63 hoặc Luật đấu thâu
A7: 6 | B7: Chi phí phê duyệt, thẩm định kết quả lựa chọn nhà thầu | E7: 50000 | F7: 79
A8: 7 | B8: Chi phí giám sát lắp đặt thiết bị | E8: =GIATRIDAUTU!L6*CONGTHUCTINH!C25/100 -> 575412.49
A9: 8 | B9: Chi phí thẩm tra dự toán xây dựng | C9: Chỉ tính trên phần XD | E9: =GIATRIDAUTU!L8*0.25/100 -> 22272.727 | F9: TT 75 btc hoac TT 176 BTC
A10: 9 | B10: Chi phí thẩm định dự án | E10: =GIATRIDAUTU!J16*CONGTHUCTINH!C34/100 -> 13181.983 | F10: TT 209/TT- btc năm 2016 hoac TT 176 BTC
A11: 10 | B11: Chi phí thẩm tra quyết toán | C11: Tổng mức đầu tư*HS nội suy | E11: =GIATRIDAUTU!J16*CONGTHUCTINH!D34/100 -> 291440.53 | F11: TT 09 BTC
A12: 11 | B12: Chi phí dự phòng | F12: btc hoac TT 176 BTC
A13: 12 | B13: Dự phòng cho yếu tố phát sinh khối lượng (10%) | D13: (I+II+III+IV)*10% | E13: =GIATRIDAUTU!J16*10/100 -> 12494771 | F13: TT 06/2016/TT-BXD
A14: 13 | B14: Dự phòng cho yếu tố trượt giá | D14: (I+II+III+IV)*5% | E14: =GIATRIDAUTU!J16*5/100 -> 6247385.5
B15: Tổng chi phí | E15: =SUM(E2:E14) -> 24435270
B19: 111715937 | C19: 1
B20: =B19*C20/C19 -> 2234318.7 | C20: 0.02
B21: =B19-B20 -> 1.0948162e+08

Sheet CONGTHUCTINH
A1: =0,09-((0,09-0,08)*(18262722421-10000000000)/15000000000) | F1: Nb | K1: 0.475 | L1: Công thức:
F2: Na | K2: 0.65 | L2: Nt = Nb - [(Nb-Na)/(Ga-Gb)] x (Gt-Gb)
F3: Ga | K3: 10
F4: Gb | K4: 50
A5: Nt= | B5: Nb-(Nb-Na)/(Ga-Gb)*(Gt-Gb) | F5: Gt | L5: G: Quy mô giá trị
B6: =3.08-(3.08-2.99)/(500000000-200000000)*(261889273-200000000) -> 3.0614332 | F6: Nt | H6: =G6/100 -> 0 | L6: N: Định mức tư vấn
L7: a: Cận trên
L8: b: cận dưới
E9: Chi phí lập hồ sơ mời thầu và chi phí lựa chọn nhà thầu
B10: QLDA | C10: Lập DA báo cáo khả thi | D10: Chi phí thẩm định giá | E10: Thiết bị | G10: Xây dựng
A11: Nb | B11: 1.796 | C11: 0.402 | E11: 0.113 | G11: 0.04
A12: Na | B12: 1.921 | C12: 0.534 | E12: 0.181 | G12: 0.032
A13: Ga | B13: 200 | C13: 200 | E13: 100 | G13: 2000
A14: Gb | B14: 100 | C14: 100 | E14: 50 | G14: 1000
A15: Gt | B15: 120 | C15: 120 | E15: 98 | G15: 727
A16: Nt | B16: =B11-(B11-B12)/(B13-B14)*(B15-B14) -> 1.821 | C16: =C11-(C11-C12)/(C13-C14)*(C15-C14) -> 0.4284 | D16: =GIATRIDAUTU!L6*2/100 -> 1957451.7 | E16: =E11-(E11-E12)/(E13-E14)*(E15-E14) -> 0.17828 | G16: =G11-(G11-G12)/(G13-G14)*(G15-G14) -> 0.042184
A19: Giám sát XD | C19: Giám sát TB | D19: Chi phí thẩm tra thiết kế dự toán | G19: ='[1]TONGCP(CONGTHUC)'!E12 -> 427681074656
A20: 0.797 | C20: 0.394 | D20: 0.029 | G20: =G19*10% -> 4.2768107e+10
A21: 0.694 | C21: 0.596 | D21: 0.028 | G21: =G19-G20 -> 3.8491297e+11
A22: 2000 | C22: 100 | D22: 2000
A23: 1000 | C23: 50 | D23: 1000 | G23: ='[1]TONGCP(CONGTHUC)'!E11 -> 808000000000
A24: 808 | C24: 98 | D24: 727 | G24: =G23*10% -> 80800000000
A25: =A20-(A20-A21)/(A22-A23)*(A24-A23) -> 0.816776 | C25: =C20-(C20-C21)/(C22-C23)*(C24-C23) -> 0.58792 | D25: =D20-(D20-D21)/(D22-D23)*(D24-D23) -> 0.029273 | G25: =G23-G24 -> 727200000000
D27: Chi phí thẩm tra dự toán XD, dưới 10 tỷ (0,250)
C28: Chi phí thẩm định dự án | D28: Chi phí thẩm tra quyết toán | G28: Chi phí kiểm toán
C29: 0.01 | D29: 0.225 | G29: 0.325
C30: 0.0125 | D30: 0.375 | G30: 0.575
C31: 200 | D31: 500 | G31: 500
C32: 100 | D32: 100 | G32: 100
C33: 122 | D33: 122 | G33: 122
C34: =C29-(C29-C30)/(C31-C32)*(C33-C32) -> 0.01055 | D34: =D29-(D29-D30)/(D31-D32)*(D33-D32) -> 0.23325 | G34: =G29-(G29-G30)/(G31-G32)*(G33-G32) -> 0.33875

Sheet KEHOACH
A1: TT | B1: NỘI DUNG ĐẦU TƯ | C1: Năm 2018 | D1: Năm 2019 | E1: Năm 2020 | F1: Tổng | G1: Nguồn đầu tư
G2: Tài trợ | H2: Mua sắm trực tiếp | I2: Tổng
A3: A | B3: B | C3: (1) | D3: (2) | E3: (3) | F3: (4)=(1)+(2)+(3) | G3: (5) | H3: (6) | I3: (7)=(5)+(6)
A4: 1 | B4: Đầu tư hoạt động quản lý
A5: 1.1 | B5: Xây dựng hệ thống đảm bảo chất lượng | C5: =GIATRIDAUTU!C4 -> 500000 | D5: =GIATRIDAUTU!D4 -> 500000 | F5: =C5+D5+E5 -> 1000000 | H5: =F5-G5 -> 1000000 | I5: =G5+H5 -> 1000000
A6: 1.2 | B6: Nâng cấp phần mềm quản lý đào tạo và phần mềm hành chính điện tử | C6: =GIATRIDAUTU!C5 -> 100000 | D6: =GIATRIDAUTU!D5 -> 100000 | E6: =GIATRIDAUTU!E5 -> 100000 | F6: =C6+D6+E6 -> 300000 | H6: =F6-G6 -> 300000 | I6: =G6+H6 -> 300000
A7: 2 | B7: Đầu tư thiết bị dạy học | C7: =GIATRIDAUTU!C6+GIATRIDAUTU!C7 -> 8015172 | D7: =GIATRIDAUTU!D6 -> 70955670 | E7: =GIATRIDAUTU!E6 -> 33729000 | F7: =C7+D7+E7 -> 112699842 | G7: =GIATRIDAUTU!C7 -> 5040000 | H7: =F7-G7 -> 107659842 | I7: =G7+H7 -> 112699842
A8: 3 | B8: Đầu tư cơ sở vật chất | C8: =GIATRIDAUTU!H8 -> 15800000 | F8: =C8+D8+E8 -> 15800000 | G8: =GIATRIDAUTU!C10 -> 6000000 | H8: =F8-G8 -> 9800000 | I8: =G8+H8 -> 15800000
A9: 4 | B9: Phát triển, xây dựng chương trình đào tạo | C9: =GIATRIDAUTU!C11+GIATRIDAUTU!C12 -> 3175956 | D9: =GIATRIDAUTU!D11 -> 175956 | E9: =GIATRIDAUTU!E11 -> 175956 | F9: =C9+D9+E9 -> 3527868 | G9: =GIATRIDAUTU!C12 -> 3000000 | H9: =F9-G9 -> 527868 | I9: =G9+H9 -> 3527868
A10: 5 | B10: Đào tạo, bồi dưỡng đội ngũ nhà giáo, cán bộ quản lý | C10: =GIATRIDAUTU!C13+GIATRIDAUTU!C14 -> 2124000 | D10: =GIATRIDAUTU!D13 -> 543000 | E10: =GIATRIDAUTU!E13 -> 493000 | F10: =C10+D10+E10 -> 3160000 | G10: =GIATRIDAUTU!C14 -> 1500000 | H10: =F10-G10 -> 1660000 | I10: =G10+H10 -> 3160000
A11: 6 | B11: Cải tạo, nâng cấp hệ thống thông tin | C11: =GIATRIDAUTU!C15 -> 1000000 | D11: =GIATRIDAUTU!D15 -> 1000000 | E11: =GIATRIDAUTU!E15 -> 2000000 | F11: =C11+D11+E11 -> 4000000 | H11: =F11-G11 -> 4000000 | I11: =G11+H11 -> 4000000
A12: 7 | B12: Chi phí quản lý DA và các chi phí khác | C12: =GIATRIDAUTU!C49 -> 2967708.2 | D12: =GIATRIDAUTU!D49 -> 14329876 | E12: =GIATRIDAUTU!E49 -> 7137685 | F12: =C12+D12+E12 -> 24435270 | H12: =F12 -> 24435270 | I12: =G12+H12 -> 24435270
B13: CỘNG | C13: =SUM(C5:C12) -> 33682836 | D13: =SUM(D5:D12) -> 87604502 | E13: =SUM(E5:E12) -> 43635641 | F13: =SUM(F5:F12) -> 1.6492298e+08 | G13: =SUM(G5:G12) -> 15540000 | H13: =SUM(H5:H12) -> 1.4938298e+08 | I13: =SUM(I5:I12) -> 1.6492298e+08

Sheet GIATRIDAUTU
F1: ĐVT: ngàn đồng
A2: TT | B2: NGHỀ | C2: Năm 2018 | D2: Năm 2019 | E2: Năm 2020 | F2: Phân nguồn | H2: Tổng các nguồn | J2: Trừ tài trợ | L2: Giá trị trước thuế
A3: 1 | B3: Đầu tư hoạt động quản lý | H3: =F4+F5 -> 1300000 | J3: =H3 -> 1300000 | L3: =J3 -> 1300000
A4: 1.1 | B4: Xây dựng hệ thống đảm bảo chất lượng | C4: 500000 | D4: 500000 | F4: 1000000
A5: 1.2 | B5: Nâng cấp phần mềm quản lý đào tạo và phần mềm hành chính điện tử | C5: 100000 | D5: 100000 | E5: 100000 | F5: 300000
A6: 2 | B6: Đầu tư thiết bị dạy học | C6: =THIETBI!C123 -> 2975172 | D6: =THIETBI!E122 -> 70955670 | E6: =THIETBI!F122 -> 33729000 | F6: =SUM(C6:E6) -> 107659842 | H6: =F6+F7 -> 112699842 | J6: =F6 -> 107659842 | L6: =J6/1.1 -> 97872584
B7: Tài trợ | C7: =THIETBI!C119 -> 5040000 | F7: =SUM(C7:E7) -> 5040000
A8: 3 | B8: Đầu tư cơ sở vật chất | C8: =CAITAOLOPHOC!B3 -> 7000000 | F8: =SUM(C8:E8) -> 7000000 | H8: =F8+F10+F9 -> 15800000 | J8: =F8+F9 -> 9800000 | L8: =J8/1.1 -> 8909090.9
C9: 2800000 | F9: =SUM(C9:E9) -> 2800000
B10: Tài trợ | C10: 6000000 | F10: =SUM(C10:E10) -> 6000000
A11: 4 | B11: Phát triển, xây dựng chương trình đào tạo | C11: 175956 | D11: 175956 | E11: 175956 | F11: =SUM(C11:E11) -> 527868 | H11: =F11+F12 -> 3527868 | J11: =F11 -> 527868 | L11: =J11 -> 527868
B12: Tài trợ | C12: 3000000 | F12: =SUM(C12:E12) -> 3000000
A13: 5 | B13: Đào tạo, bồi dưỡng đội ngũ nhà giáo, cán bộ quản lý | C13: 624000 | D13: 543000 | E13: 493000 | F13: =SUM(C13:E13) -> 1660000 | H13: =F13+F14 -> 3160000 | J13: =F13 -> 1660000 | L13: =J13 -> 1660000
B14: Tài trợ | C14: 1500000 | F14: =SUM(C14:E14) -> 1500000
A15: 6 | B15: Cải tạo, nâng cấp hệ thống thông tin | C15: 1000000 | D15: 1000000 | E15: 2000000 | F15: =SUM(C15:E15) -> 4000000 | H15: =F15 -> 4000000 | J15: =H15 -> 4000000 | L15: =J15 -> 4000000
B16: CỘNG | C16: =SUM(C4:C15) -> 30715128 | D16: =SUM(D4:D15) -> 73274626 | E16: =SUM(E4:E15) -> 36497956 | F16: =SUM(F4:F15) -> 140487710 | H16: =SUM(H3:H15) -> 140487710 | J16: =SUM(J3:J15) -> 124947710 | L16: =SUM(L3:L15) -> 1.1426954e+08
A17: 7 | B17: Các chi phí | F17: Chi phí | H17: =CACCHIPHI!E15 -> 24435270
F18: Tổng DA | H18: =H16+H17 -> 1.6492298e+08
B19: Phân kỳ
A20: TT | B20: NỘI DUNG ĐẦU TƯ | C20: Năm 2018 | D20: Năm 2019 | E20: Năm 2020 | F20: Tổng cộng
A21: 1 | B21: Đầu tư hoạt động quản lý
A22: 1.1 | B22: Xây dựng hệ thống đảm bảo chất lượng | C22: 500000 | D22: 500000 | F22: 1000000
A23: 1.2 | B23: Nâng cấp phần mềm quản lý đào tạo và phần mềm hành chính điện tử | C23: 100000 | D23: 100000 | E23: 100000 | F23: 300000
A24: 2 | B24: Đầu tư thiết bị dạy học | C24: =C6 -> 2975172 | D24: =D6 -> 70955670 | E24: =E6 -> 33729000 | F24: =SUM(C24:E24) -> 107659842
A25: 3 | B25: Đầu tư cơ sở vật chất | C25: =J8 -> 9800000 | F25: =SUM(C25:E25) -> 9800000
A26: 4 | B26: Phát triển, xây dựng chương trình đào tạo | C26: 175956 | D26: 175956 | E26: 175956 | F26: =SUM(C26:E26) -> 527868
A27: 5 | B27: Đào tạo, bồi dưỡng đội ngũ nhà giáo, cán bộ quản lý | C27: 624000 | D27: 543000 | E27: 493000 | F27: =SUM(C27:E27) -> 1660000 | J27: =H17 -> 24435270 | L27: =J16 -> 124947710
A28: 6 | B28: Cải tạo, nâng cấp hệ thống thông tin | C28: 1000000 | D28: 1000000 | E28: 2000000 | F28: =SUM(C28:E28) -> 4000000 | J28: =J27*L28/L27 -> 2967708.2 | L28: =C30 -> 15175128
A29: 7 | B29: Chi phí khác
B30: CỘNG | C30: =SUM(C22:C29) -> 15175128 | D30: =SUM(D22:D29) -> 73274626 | E30: =SUM(E22:E29) -> 36497956 | F30: =SUM(F22:F29) -> 124947710 | J30: =H17 -> 24435270 | L30: =L27 -> 124947710
J31: =J30*L31/L30 -> 14329876 | L31: =D30 -> 73274626
C32: 2423044 | D32: 14357541 | E32: 7151465 | F32: 122138744
C33: 12366162 | D33: 73274626 | E33: 36497956 | F33: 23932050 | J33: =H17 -> 24435270 | L33: =L30 -> 124947710
B34: =C34+D34+E34 -> 146070794 | C34: =C32+C33 -> 14789206 | D34: =D32+D33 -> 87632167 | E34: =E32+E33 -> 43649421 | F34: =F32+F33 -> 146070794 | J34: =J33*L34/L33 -> 7137685 | L34: =E30 -> 36497956
C36: =C32+C16 -> 33138172
B38: Phân kỳ đầu tư
A40: TT | B40: NỘI DUNG ĐẦU TƯ | C40: Năm 2018 | D40: Năm 2019 | E40: Năm 2020 | F40: Tổng cộng
A41: 1 | B41: Đầu tư hoạt động quản lý | J41: =C50-KEHOACH!C13 -> 0
A42: 1.1 | B42: Xây dựng hệ thống đảm bảo chất lượng | C42: 500000 | D42: 500000 | F42: =C42+D42+E42 -> 1000000
A43: 1.2 | B43: Nâng cấp phần mềm quản lý đào tạo và phần mềm hành chính điện tử | C43: 100000 | D43: 100000 | E43: 100000 | F43: =C43+D43+E43 -> 300000
A44: 2 | B44: Đầu tư thiết bị dạy học | C44: =C6+C7 -> 8015172 | D44: 70955670 | E44: 33729000 | F44: =C44+D44+E44 -> 112699842
A45: 3 | B45: Đầu tư cơ sở vật chất | C45: =H8 -> 15800000 | F45: =C45+D45+E45 -> 15800000
A46: 4 | B46: Phát triển, xây dựng chương trình đào tạo | C46: =C11+C12 -> 3175956 | D46: 175956 | E46: 175956 | F46: =C46+D46+E46 -> 3527868
A47: 5 | B47: Đào tạo, bồi dưỡng đội ngũ nhà giáo, cán bộ quản lý | C47: =C13+C14 -> 2124000 | D47: 543000 | E47: 493000 | F47: =C47+D47+E47 -> 3160000
A48: 6 | B48: Cải tạo, nâng cấp hệ thống thông tin | C48: 1000000 | D48: 1000000 | E48: 2000000 | F48: =C48+D48+E48 -> 4000000
A49: 7 | B49: Chi phí khác | C49: =J28 -> 2967708.2 | D49: =J31 -> 14329876 | E49: =J34 -> 7137685 | F49: =C49+D49+E49 -> 24435270
B50: CỘNG | C50: =SUM(C42:C49) -> 33682836 | D50: =SUM(D42:D49) -> 87604502 | E50: =SUM(E42:E49) -> 43635641 | F50: =SUM(F42:F49) -> 1.6492298e+08

Sheet Sheet3
A3: Bóng chuyền
B4: Trọng tài | C4: 200000 | D4: 12 | E4: =C4*D4 -> 2400000
B5: Cờ | C5: 70000 | D5: 3 | E5: =C5*D5 -> 210000
A6: Bóng đá nam | E6: =C6*D6 -> 0
B7: Trọng tài | C7: 200000 | D7: 12 | E7: =C7*D7 -> 2400000
B8: Cờ | C8: 70000 | D8: 3 | E8: =C8*D8 -> 210000
B9: Phí thuê sân | C9: 300000 | D9: 12 | E9: =C9*D9 -> 3600000
A10: Bóng đá nữ | E10: =C10*D10 -> 0
B11: Trọng tài | C11: 200000 | D11: 12 | E11: =C11*D11 -> 2400000
B12: Cờ | C12: 70000 | D12: 3 | E12: =C12*D12 -> 210000
B13: Phí thuê sân | C13: 300000 | D13: 12 | E13: =C13*D13 -> 3600000
A14: Bóng bàn | E14: =C14*D14 -> 0
B15: Bóng | C15: 200000 | D15: 4 | E15: =C15*D15 -> 800000
B16: Cờ | C16: 70000 | D16: 6 | E16: =C16*D16 -> 420000
A17: Cầu lông | E17: =C17*D17 -> 0
B18: Cầu | C18: 160000 | D18: 12 | E18: =C18*D18 -> 1920000
B19: Cờ | C19: 70000 | D19: 12 | E19: =C19*D19 -> 840000
A20: Trò chơi vận động | E20: =C20*D20 -> 0
B21: Táo | C21: 70000 | D21: 5 | E21: =C21*D21 -> 350000 | F21: kg
B22: Dây | C22: 25000 | D22: 12 | E22: =C22*D22 -> 300000
B23: Cờ | C23: 70000 | D23: 12 | E23: =C23*D23 -> 840000
A24: Nước uống phục vụ | C24: 72000 | D24: 20 | E24: =C24*D24 -> 1440000 | F24: thùng
A25: Ban tổ chức | C25: 500000 | D25: 7 | E25: =C25*D25 -> 3500000
E26: =SUM(E4:E25) -> 25440000
